BEGIN:VCALENDAR
VERSION:2.0
PRODID:-//hacksw/handcal//NONSGML v1.0//EN
BEGIN:VEVENT
SUMMARY:MUSCULATION 13h45-15h00
UID:da66d4e9-8e59-424e-9ef7-22f5604b983d
DTSTART:20260422T114500Z
DTEND:20260429T130000Z
LOCATION:Localisation   
CATEGORIES:Entrainement
STATUS:
URL;VALUE=URI:https://asrotroudreux.sportsregions.fr/evenements/2026/04/22/musculation-13h45-15h00-2356223
END:VEVENT
END:VCALENDAR
