BEGIN:VCALENDAR
VERSION:2.0
PRODID:-//hacksw/handcal//NONSGML v1.0//EN
BEGIN:VEVENT
SUMMARY:MUSCULATION 13h45-15h00
UID:9e08a819-808e-4ae4-b325-8eab3b3155f6
DTSTART:20260415T114500Z
DTEND:20260422T130000Z
LOCATION:Localisation   
CATEGORIES:Entrainement
STATUS:
URL;VALUE=URI:https://asrotroudreux.sportsregions.fr/evenements/2026/04/15/musculation-13h45-15h00-2356224
END:VEVENT
END:VCALENDAR
